Workbook

Sheet yeter gelir büyüklük
A1: TÜRKİYE İL / İLÇE BAZINDA YETER GELİRLİ TARIMSAL ARAZİ BÜYÜKLÜKLERİ
A3: İl_İlçe | C3: Sulu Arazi (Da) | D3: Kuru Arazi (Da) | E3: Dikili Arazi (Da) | F3: Örtüaltı Arazi (Da) | G3: Kuru Araziye Çevirme Katsayısı | L3: Kuru Arazinin Eş Değer Miktarları | P3: TOPLAM | Q3: SONUÇ
G4: Kuru Arazi (Da) | H4: Sulu Arazi (Da) | I4: Dikili Arazi (Da) | J4: Örtüaltı Arazi (Da) | L4: Kuru Arazi (Da) | M4: Sulu Arazi (Da) | N4: Dikili Arazi (Da) | O4: Örtüaltı Arazi (Da)
A5: Adana | K5: ÖRNEK1 | L5: 15 | M5: 15 | N5: 1 | O5: 1 | P5: =SUM(L5:O5) -> 32
B6: Aladağ | C6: 70 | D6: 150 | E6: 10 | F6: 3 | G6: 1 | H6: =D6/C6 -> 2.1428571 | I6: =D6/E6 -> 15 | J6: =D6/F6 -> 50 | L6: 25 | M6: =M5*H6 -> 32.142857 | N6: =N5*I6 -> 15 | O6: =O5*J6 -> 50 | P6: =SUM(L6:O6) -> 122.14286 | Q6: BÖLÜNEREK SATILAMAZ
B7: Ceyhan | C7: 50 | D7: 160 | E7: 10 | F7: 3 | G7: 1 | H7: =D7/C7 -> 3.2 | I7: =D7/E7 -> 16 | J7: =D7/F7 -> 53.333333 | M7: =(M5*H7) -> 48 | N7: =N5*I7 -> 16 | O7: =O5*J7 -> 53.333333 | P7: =SUM(L7:O7) -> 117.33333 | Q7: 49 Da Kuru Karşılığı Arazi Satılabilir.
B8: Çukurova | C8: 65 | D8: 150 | E8: 10 | F8: 3 | G8: 1 | H8: =D8/C8 -> 2.3076923 | I8: =D8/E8 -> 15 | J8: =D8/F8 -> 50 | M8: =($M$5*H8) -> 34.615385 | N8: =($N$5*I8) -> 15 | O8: =($O$5*J8) -> 50 | P8: =SUM(L8:O8) -> 99.615385
B9: Feke | C9: 80 | D9: 175 | E9: 10 | F9: 3 | G9: 1 | H9: =D9/C9 -> 2.1875 | I9: =D9/E9 -> 17.5 | J9: =D9/F9 -> 58.333333 | M9: =($M$5*H9) -> 32.8125 | N9: =($N$5*I9) -> 17.5 | O9: =($O$5*J9) -> 58.333333 | P9: =SUM(L9:O9) -> 108.64583
B10: İmamoğlu | C10: 55 | D10: 120 | E10: 10 | F10: 3 | G10: 1 | H10: =D10/C10 -> 2.1818182 | I10: =D10/E10 -> 12 | J10: =D10/F10 -> 40 | M10: =($M$5*H10) -> 32.727273 | N10: =($N$5*I10) -> 12 | O10: =($O$5*J10) -> 40 | P10: =SUM(L10:O10) -> 84.727273
B11: Karaisalı | C11: 70 | D11: 160 | E11: 10 | F11: 3 | G11: 1 | H11: =D11/C11 -> 2.2857143 | I11: =D11/E11 -> 16 | J11: =D11/F11 -> 53.333333 | M11: =($M$5*H11) -> 34.285714 | N11: =($N$5*I11) -> 16 | O11: =($O$5*J11) -> 53.333333 | P11: =SUM(L11:O11) -> 103.61905
B12: Karataş | C12: 65 | D12: 175 | E12: 10 | F12: 3 | G12: 1 | H12: =D12/C12 -> 2.6923077 | I12: =D12/E12 -> 17.5 | J12: =D12/F12 -> 58.333333 | M12: =($M$5*H12) -> 40.384615 | N12: =($N$5*I12) -> 17.5 | O12: =($O$5*J12) -> 58.333333 | P12: =SUM(L12:O12) -> 116.21795
B13: Kozan | C13: 50 | D13: 125 | E13: 10 | F13: 3 | G13: 1 | H13: =D13/C13 -> 2.5 | I13: =D13/E13 -> 12.5 | J13: =D13/F13 -> 41.666667 | M13: =($M$5*H13) -> 37.5 | N13: =($N$5*I13) -> 12.5 | O13: =($O$5*J13) -> 41.666667 | P13: =SUM(L13:O13) -> 91.666667
B14: Pozantı | C14: 90 | D14: 160 | E14: 10 | F14: 3 | G14: 1 | H14: =D14/C14 -> 1.7777778 | I14: =D14/E14 -> 16 | J14: =D14/F14 -> 53.333333 | M14: =($M$5*H14) -> 26.666667 | N14: =($N$5*I14) -> 16 | O14: =($O$5*J14) -> 53.333333 | P14: =SUM(L14:O14) -> 96
B15: Saimbeyli | C15: 90 | D15: 120 | E15: 10 | F15: 3 | G15: 1 | H15: =D15/C15 -> 1.3333333 | I15: =D15/E15 -> 12 | J15: =D15/F15 -> 40 | M15: =($M$5*H15) -> 20 | N15: =($N$5*I15) -> 12 | O15: =($O$5*J15) -> 40 | P15: =SUM(L15:O15) -> 72
B16: Sarıçam | C16: 70 | D16: 120 | E16: 10 | F16: 3 | G16: 1 | H16: =D16/C16 -> 1.7142857 | I16: =D16/E16 -> 12 | J16: =D16/F16 -> 40 | M16: =($M$5*H16) -> 25.714286 | N16: =($N$5*I16) -> 12 | O16: =($O$5*J16) -> 40 | P16: =SUM(L16:O16) -> 77.714286
B17: Seyhan | C17: 50 | D17: 120 | E17: 10 | F17: 3 | G17: 1 | H17: =D17/C17 -> 2.4 | I17: =D17/E17 -> 12 | J17: =D17/F17 -> 40 | M17: =($M$5*H17) -> 36 | N17: =($N$5*I17) -> 12 | O17: =($O$5*J17) -> 40 | P17: =SUM(L17:O17) -> 88
B18: Tufanbeyli | C18: 95 | D18: 175 | E18: 10 | F18: 3 | G18: 1 | H18: =D18/C18 -> 1.8421053 | I18: =D18/E18 -> 17.5 | J18: =D18/F18 -> 58.333333 | M18: =($M$5*H18) -> 27.631579 | N18: =($N$5*I18) -> 17.5 | O18: =($O$5*J18) -> 58.333333 | P18: =SUM(L18:O18) -> 103.46491
B19: Yumurtalık | C19: 50 | D19: 135 | E19: 10 | F19: 3 | G19: 1 | H19: =D19/C19 -> 2.7 | I19: =D19/E19 -> 13.5 | J19: =D19/F19 -> 45 | M19: =($M$5*H19) -> 40.5 | N19: =($N$5*I19) -> 13.5 | O19: =($O$5*J19) -> 45 | P19: =SUM(L19:O19) -> 99
B20: Yüreğir | C20: 50 | D20: 160 | E20: 10 | F20: 3 | G20: 1 | H20: =D20/C20 -> 3.2 | I20: =D20/E20 -> 16 | J20: =D20/F20 -> 53.333333 | M20: =($M$5*H20) -> 48 | N20: =($N$5*I20) -> 16 | O20: =($O$5*J20) -> 53.333333 | P20: =SUM(L20:O20) -> 117.33333
A21: Adıyaman
B22: Besni | C22: 65 | D22: 160 | E22: 10 | F22: 3 | G22: 1 | H22: =D22/C22 -> 2.4615385 | I22: =D22/E22 -> 16 | J22: =D22/F22 -> 53.333333 | M22: =($M$5*H22) -> 36.923077 | N22: =($N$5*I22) -> 16 | O22: =($O$5*J22) -> 53.333333 | P22: =SUM(L22:O22) -> 106.25641
B23: Çelikhan | C23: 55 | D23: 140 | E23: 10 | F23: 3 | G23: 1 | H23: =D23/C23 -> 2.5454545 | I23: =D23/E23 -> 14 | J23: =D23/F23 -> 46.666667 | M23: =($M$5*H23) -> 38.181818 | N23: =($N$5*I23) -> 14 | O23: =($O$5*J23) -> 46.666667 | P23: =SUM(L23:O23) -> 98.848485
B24: Gerger | C24: 70 | D24: 170 | E24: 10 | F24: 3 | G24: 1 | H24: =D24/C24 -> 2.4285714 | I24: =D24/E24 -> 17 | J24: =D24/F24 -> 56.666667 | M24: =($M$5*H24) -> 36.428571 | N24: =($N$5*I24) -> 17 | O24: =($O$5*J24) -> 56.666667 | P24: =SUM(L24:O24) -> 110.09524
B25: Gölbaşı | C25: 65 | D25: 165 | E25: 10 | F25: 3 | G25: 1 | H25: =D25/C25 -> 2.5384615 | I25: =D25/E25 -> 16.5 | J25: =D25/F25 -> 55 | M25: =($M$5*H25) -> 38.076923 | N25: =($N$5*I25) -> 16.5 | O25: =($O$5*J25) -> 55 | P25: =SUM(L25:O25) -> 109.57692
B26: Kahta | C26: 70 | D26: 160 | E26: 10 | F26: 3 | G26: 1 | H26: =D26/C26 -> 2.2857143 | I26: =D26/E26 -> 16 | J26: =D26/F26 -> 53.333333 | M26: =($M$5*H26) -> 34.285714 | N26: =($N$5*I26) -> 16 | O26: =($O$5*J26) -> 53.333333 | P26: =SUM(L26:O26) -> 103.61905
B27: Merkez | C27: 65 | D27: 160 | E27: 10 | F27: 3 | G27: 1 | H27: =D27/C27 -> 2.4615385 | I27: =D27/E27 -> 16 | J27: =D27/F27 -> 53.333333 | M27: =($M$5*H27) -> 36.923077 | N27: =($N$5*I27) -> 16 | O27: =($O$5*J27) -> 53.333333 | P27: =SUM(L27:O27) -> 106.25641
B28: Samsat | C28: 70 | D28: 160 | E28: 10 | F28: 3 | G28: 1 | H28: =D28/C28 -> 2.2857143 | I28: =D28/E28 -> 16 | J28: =D28/F28 -> 53.333333 | M28: =($M$5*H28) -> 34.285714 | N28: =($N$5*I28) -> 16 | O28: =($O$5*J28) -> 53.333333 | P28: =SUM(L28:O28) -> 103.61905
B29: Sincik | C29: 55 | D29: 140 | E29: 10 | F29: 3 | G29: 1 | H29: =D29/C29 -> 2.5454545 | I29: =D29/E29 -> 14 | J29: =D29/F29 -> 46.666667 | M29: =($M$5*H29) -> 38.181818 | N29: =($N$5*I29) -> 14 | O29: =($O$5*J29) -> 46.666667 | P29: =SUM(L29:O29) -> 98.848485
B30: Tut | C30: 65 | D30: 150 | E30: 10 | F30: 3 | G30: 1 | H30: =D30/C30 -> 2.3076923 | I30: =D30/E30 -> 15 | J30: =D30/F30 -> 50 | M30: =($M$5*H30) -> 34.615385 | N30: =($N$5*I30) -> 15 | O30: =($O$5*J30) -> 50 | P30: =SUM(L30:O30) -> 99.615385
A31: Afyonkarahisar
B32: Başmakçı | C32: 70 | D32: 200 | E32: 10 | F32: 3 | G32: 1 | H32: =D32/C32 -> 2.8571429 | I32: =D32/E32 -> 20 | J32: =D32/F32 -> 66.666667 | M32: =($M$5*H32) -> 42.857143 | N32: =($N$5*I32) -> 20 | O32: =($O$5*J32) -> 66.666667 | P32: =SUM(L32:O32) -> 129.52381
B33: Bayat | C33: 75 | D33: 175 | E33: 10 | F33: 3 | G33: 1 | H33: =D33/C33 -> 2.3333333 | I33: =D33/E33 -> 17.5 | J33: =D33/F33 -> 58.333333 | M33: =($M$5*H33) -> 35 | N33: =($N$5*I33) -> 17.5 | O33: =($O$5*J33) -> 58.333333 | P33: =SUM(L33:O33) -> 110.83333
B34: Bolvadin | C34: 65 | D34: 200 | E34: 10 | F34: 3 | G34: 1 | H34: =D34/C34 -> 3.0769231 | I34: =D34/E34 -> 20 | J34: =D34/F34 -> 66.666667 | M34: =($M$5*H34) -> 46.153846 | N34: =($N$5*I34) -> 20 | O34: =($O$5*J34) -> 66.666667 | P34: =SUM(L34:O34) -> 132.82051
B35: Çay | C35: 80 | D35: 180 | E35: 10 | F35: 3 | G35: 1 | H35: =D35/C35 -> 2.25 | I35: =D35/E35 -> 18 | J35: =D35/F35 -> 60 | M35: =($M$5*H35) -> 33.75 | N35: =($N$5*I35) -> 18 | O35: =($O$5*J35) -> 60 | P35: =SUM(L35:O35) -> 111.75
B36: Çobanlar | C36: 85 | D36: 200 | E36: 10 | F36: 3 | G36: 1 | H36: =D36/C36 -> 2.3529412 | I36: =D36/E36 -> 20 | J36: =D36/F36 -> 66.666667 | M36: =($M$5*H36) -> 35.294118 | N36: =($N$5*I36) -> 20 | O36: =($O$5*J36) -> 66.666667 | P36: =SUM(L36:O36) -> 121.96078
B37: Dazkırı | C37: 75 | D37: 200 | E37: 10 | F37: 3 | G37: 1 | H37: =D37/C37 -> 2.6666667 | I37: =D37/E37 -> 20 | J37: =D37/F37 -> 66.666667 | M37: =($M$5*H37) -> 40 | N37: =($N$5*I37) -> 20 | O37: =($O$5*J37) -> 66.666667 | P37: =SUM(L37:O37) -> 126.66667
B38: Dinar | C38: 60 | D38: 200 | E38: 10 | F38: 3 | G38: 1 | H38: =D38/C38 -> 3.3333333 | I38: =D38/E38 -> 20 | J38: =D38/F38 -> 66.666667 | M38: =($M$5*H38) -> 50 | N38: =($N$5*I38) -> 20 | O38: =($O$5*J38) -> 66.666667 | P38: =SUM(L38:O38) -> 136.66667
B39: Emirdağ | C39: 65 | D39: 190 | E39: 10 | F39: 3 | G39: 1 | H39: =D39/C39 -> 2.9230769 | I39: =D39/E39 -> 19 | J39: =D39/F39 -> 63.333333 | M39: =($M$5*H39) -> 43.846154 | N39: =($N$5*I39) -> 19 | O39: =($O$5*J39) -> 63.333333 | P39: =SUM(L39:O39) -> 126.17949
B40: Evciler | C40: 65 | D40: 180 | E40: 10 | F40: 3 | G40: 1 | H40: =D40/C40 -> 2.7692308 | I40: =D40/E40 -> 18 | J40: =D40/F40 -> 60 | M40: =($M$5*H40) -> 41.538462 | N40: =($N$5*I40) -> 18 | O40: =($O$5*J40) -> 60 | P40: =SUM(L40:O40) -> 119.53846
B41: Hocalar | C41: 65 | D41: 190 | E41: 10 | F41: 3 | G41: 1 | H41: =D41/C41 -> 2.9230769 | I41: =D41/E41 -> 19 | J41: =D41/F41 -> 63.333333 | M41: =($M$5*H41) -> 43.846154 | N41: =($N$5*I41) -> 19 | O41: =($O$5*J41) -> 63.333333 | P41: =SUM(L41:O41) -> 126.17949
B42: İhsaniye | C42: 65 | D42: 160 | E42: 10 | F42: 3 | G42: 1 | H42: =D42/C42 -> 2.4615385 | I42: =D42/E42 -> 16 | J42: =D42/F42 -> 53.333333 | M42: =($M$5*H42) -> 36.923077 | N42: =($N$5*I42) -> 16 | O42: =($O$5*J42) -> 53.333333 | P42: =SUM(L42:O42) -> 106.25641
B43: İscehisar | C43: 100 | D43: 180 | E43: 10 | F43: 3 | G43: 1 | H43: =D43/C43 -> 1.8 | I43: =D43/E43 -> 18 | J43: =D43/F43 -> 60 | M43: =($M$5*H43) -> 27 | N43: =($N$5*I43) -> 18 | O43: =($O$5*J43) -> 60 | P43: =SUM(L43:O43) -> 105
... B49: Şuhut | C49: 65 | D49: 190 | E49: 10 | F49: 3 | G49: 1 | H49: =D49/C49 -> 2.9230769 | I49: =D49/E49 -> 19 | J49: =D49/F49 -> 63.333333 | M49: =($M$5*H49) -> 43.846154 | N49: =($N$5*I49) -> 19 | O49: =($O$5*J49) -> 63.333333 | P49: =SUM(L49:O49) -> 126.17949
A50: Ağrı
B51: Diyadin | C51: 100 | D51: 200 | E51: 10 | F51: 3 | G51: 1 | H51: =D51/C51 -> 2 | I51: =D51/E51 -> 20 | J51: =D51/F51 -> 66.666667 | M51: =($M$5*H51) -> 30 | N51: =($N$5*I51) -> 20 | O51: =($O$5*J51) -> 66.666667 | P51: =SUM(L51:O51) -> 116.66667
B52: Doğubeyazıt | C52: 100 | D52: 200 | E52: 10 | F52: 3 | G52: 1 | H52: =D52/C52 -> 2 | I52: =D52/E52 -> 20 | J52: =D52/F52 -> 66.666667 | M52: =($M$5*H52) -> 30 | N52: =($N$5*I52) -> 20 | O52: =($O$5*J52) -> 66.666667 | P52: =SUM(L52:O52) -> 116.66667
B53: Eleşkirt | C53: 80 | D53: 150 | E53: 10 | F53: 3 | G53: 1 | H53: =D53/C53 -> 1.875 | I53: =D53/E53 -> 15 | J53: =D53/F53 -> 50 | M53: =($M$5*H53) -> 28.125 | N53: =($N$5*I53) -> 15 | O53: =($O$5*J53) -> 50 | P53: =SUM(L53:O53) -> 93.125
B54: Hamur | C54: 100 | D54: 200 | E54: 10 | F54: 3 | G54: 1 | H54: =D54/C54 -> 2 | I54: =D54/E54 -> 20 | J54: =D54/F54 -> 66.666667 | M54: =($M$5*H54) -> 30 | N54: =($N$5*I54) -> 20 | O54: =($O$5*J54) -> 66.666667 | P54: =SUM(L54:O54) -> 116.66667
B55: Merkez | C55: 80 | D55: 180 | E55: 10 | F55: 3 | G55: 1 | H55: =D55/C55 -> 2.25 | I55: =D55/E55 -> 18 | J55: =D55/F55 -> 60 | M55: =($M$5*H55) -> 33.75 | N55: =($N$5*I55) -> 18 | O55: =($O$5*J55) -> 60 | P55: =SUM(L55:O55) -> 111.75
B56: Patnos | C56: 100 | D56: 200 | E56: 10 | F56: 3 | G56: 1 | H56: =D56/C56 -> 2 | I56: =D56/E56 -> 20 | J56: =D56/F56 -> 66.666667 | M56: =($M$5*H56) -> 30 | N56: =($N$5*I56) -> 20 | O56: =($O$5*J56) -> 66.666667 | P56: =SUM(L56:O56) -> 116.66667
B57: Taşlıçay | C57: 100 | D57: 200 | E57: 10 | F57: 3 | G57: 1 | H57: =D57/C57 -> 2 | I57: =D57/E57 -> 20 | J57: =D57/F57 -> 66.666667 | M57: =($M$5*H57) -> 30 | N57: =($N$5*I57) -> 20 | O57: =($O$5*J57) -> 66.666667 | P57: =SUM(L57:O57) -> 116.66667
B58: Tutak | C58: 100 | D58: 200 | E58: 10 | F58: 3 | G58: 1 | H58: =D58/C58 -> 2 | I58: =D58/E58 -> 20 | J58: =D58/F58 -> 66.666667 | M58: =($M$5*H58) -> 30 | N58: =($N$5*I58) -> 20 | O58: =($O$5*J58) -> 66.666667 | P58: =SUM(L58:O58) -> 116.66667
A59: Aksaray
B60: Ağaçören | C60: 70 | D60: 190 | E60: 10 | F60: 3 | G60: 1 | H60: =D60/C60 -> 2.7142857 | I60: =D60/E60 -> 19 | J60: =D60/F60 -> 63.333333 | M60: =($M$5*H60) -> 40.714286 | N60: =($N$5*I60) -> 19 | O60: =($O$5*J60) -> 63.333333 | P60: =SUM(L60:O60) -> 123.04762
B61: Eskil | C61: 70 | D61: 185 | E61: 10 | F61: 3 | G61: 1 | H61: =D61/C61 -> 2.6428571 | I61: =D61/E61 -> 18.5 | J61: =D61/F61 -> 61.666667 | M61: =($M$5*H61) -> 39.642857 | N61: =($N$5*I61) -> 18.5 | O61: =($O$5*J61) -> 61.666667 | P61: =SUM(L61:O61) -> 119.80952
B62: Gülağaç | C62: 70 | D62: 195 | E62: 10 | F62: 3 | G62: 1 | H62: =D62/C62 -> 2.7857143 | I62: =D62/E62 -> 19.5 | J62: =D62/F62 -> 65 | M62: =($M$5*H62) -> 41.785714 | N62: =($N$5*I62) -> 19.5 | O62: =($O$5*J62) -> 65 | P62: =SUM(L62:O62) -> 126.28571
B63: Güzelyurt | C63: 70 | D63: 195 | E63: 10 | F63: 3 | G63: 1 | H63: =D63/C63 -> 2.7857143 | I63: =D63/E63 -> 19.5 | J63: =D63/F63 -> 65 | M63: =($M$5*H63) -> 41.785714 | N63: =($N$5*I63) -> 19.5 | O63: =($O$5*J63) -> 65 | P63: =SUM(L63:O63) -> 126.28571
B64: Merkez | C64: 75 | D64: 185 | E64: 10 | F64: 3 | G64: 1 | H64: =D64/C64 -> 2.4666667 | I64: =D64/E64 -> 18.5 | J64: =D64/F64 -> 61.666667 | M64: =($M$5*H64) -> 37 | N64: =($N$5*I64) -> 18.5 | O64: =($O$5*J64) -> 61.666667 | P64: =SUM(L64:O64) -> 117.16667
B65: Ortaköy | C65: 70 | D65: 175 | E65: 10 | F65: 3 | G65: 1 | H65: =D65/C65 -> 2.5 | I65: =D65/E65 -> 17.5 | J65: =D65/F65 -> 58.333333 | M65: =($M$5*H65) -> 37.5 | N65: =($N$5*I65) -> 17.5 | O65: =($O$5*J65) -> 58.333333 | P65: =SUM(L65:O65) -> 113.33333
B66: Sarıyahşi | C66: 80 | D66: 160 | E66: 10 | F66: 3 | G66: 1 | H66: =D66/C66 -> 2 | I66: =D66/E66 -> 16 | J66: =D66/F66 -> 53.333333 | M66: =($M$5*H66) -> 30 | N66: =($N$5*I66) -> 16 | O66: =($O$5*J66) -> 53.333333 | P66: =SUM(L66:O66) -> 99.333333
A67: Amasya
B68: Göynücek | C68: 75 | D68: 175 | E68: 10 | F68: 3 | G68: 1 | H68: =D68/C68 -> 2.3333333 | I68: =D68/E68 -> 17.5 | J68: =D68/F68 -> 58.333333 | M68: =($M$5*H68) -> 35 | N68: =($N$5*I68) -> 17.5 | O68: =($O$5*J68) -> 58.333333 | P68: =SUM(L68:O68) -> 110.83333
B69: Gümüşhacıköy | C69: 70 | D69: 160 | E69: 10 | F69: 3 | G69: 1 | H69: =D69/C69 -> 2.2857143 | I69: =D69/E69 -> 16 | J69: =D69/F69 -> 53.333333 | M69: =($M$5*H69) -> 34.285714 | N69: =($N$5*I69) -> 16 | O69: =($O$5*J69) -> 53.333333 | P69: =SUM(L69:O69) -> 103.61905
B70: Hamamözü | C70: 85 | D70: 190 | E70: 10 | F70: 3 | G70: 1 | H70: =D70/C70 -> 2.2352941 | I70: =D70/E70 -> 19 | J70: =D70/F70 -> 63.333333 | M70: =($M$5*H70) -> 33.529412 | N70: =($N$5*I70) -> 19 | O70: =($O$5*J70) -> 63.333333 | P70: =SUM(L70:O70) -> 115.86275
B71: Merkez | C71: 75 | D71: 170 | E71: 10 | F71: 3 | G71: 1 | H71: =D71/C71 -> 2.2666667 | I71: =D71/E71 -> 17 | J71: =D71/F71 -> 56.666667 | M71: =($M$5*H71) -> 34 | N71: =($N$5*I71) -> 17 | O71: =($O$5*J71) -> 56.666667 | P71: =SUM(L71:O71) -> 107.66667
B72: Merzifon | C72: 75 | D72: 160 | E72: 10 | F72: 3 | G72: 1 | H72: =D72/C72 -> 2.1333333 | I72: =D72/E72 -> 16 | J72: =D72/F72 -> 53.333333 | M72: =($M$5*H72) -> 32 | N72: =($N$5*I72) -> 16 | O72: =($O$5*J72) -> 53.333333 | P72: =SUM(L72:O72) -> 101.33333
B73: Suluova | C73: 75 | D73: 160 | E73: 10 | F73: 3 | G73: 1 | H73: =D73/C73 -> 2.1333333 | I73: =D73/E73 -> 16 | J73: =D73/F73 -> 53.333333 | M73: =($M$5*H73) -> 32 | N73: =($N$5*I73) -> 16 | O73: =($O$5*J73) -> 53.333333 | P73: =SUM(L73:O73) -> 101.33333
B74: Taşova | C74: 75 | D74: 200 | E74: 10 | F74: 3 | G74: 1 | H74: =D74/C74 -> 2.6666667 | I74: =D74/E74 -> 20 | J74: =D74/F74 -> 66.666667 | M74: =($M$5*H74) -> 40 | N74: =($N$5*I74) -> 20 | O74: =($O$5*J74) -> 66.666667 | P74: =SUM(L74:O74) -> 126.66667
A75: Ankara
B76: Akyurt | C76: 65 | D76: 170 | E76: 10 | F76: 3 | G76: 1 | H76: =D76/C76 -> 2.6153846 | I76: =D76/E76 -> 17 | J76: =D76/F76 -> 56.666667 | M76: =($M$5*H76) -> 39.230769 | N76: =($N$5*I76) -> 17 | O76: =($O$5*J76) -> 56.666667 | P76: =SUM(L76:O76) -> 112.89744
B77: Altındağ | C77: 80 | D77: 200 | E77: 10 | F77: 3 | G77: 1 | H77: =D77/C77 -> 2.5 | I77: =D77/E77 -> 20 | J77: =D77/F77 -> 66.666667 | M77: =($M$5*H77) -> 37.5 | N77: =($N$5*I77) -> 20 | O77: =($O$5*J77) -> 66.666667 | P77: =SUM(L77:O77) -> 124.16667
B78: Ayaş | C78: 65 | D78: 200 | E78: 10 | F78: 3 | G78: 1 | H78: =D78/C78 -> 3.0769231 | I78: =D78/E78 -> 20 | J78: =D78/F78 -> 66.666667 | M78: =($M$5*H78) -> 46.153846 | N78: =($N$5*I78) -> 20 | O78: =($O$5*J78) -> 66.666667 | P78: =SUM(L78:O78) -> 132.82051
B79: Bala | C79: 70 | D79: 165 | E79: 10 | F79: 3 | G79: 1 | H79: =D79/C79 -> 2.3571429 | I79: =D79/E79 -> 16.5 | J79: =D79/F79 -> 55 | M79: =($M$5*H79) -> 35.357143 | N79: =($N$5*I79) -> 16.5 | O79: =($O$5*J79) -> 55 | P79: =SUM(L79:O79) -> 106.85714
B80: Beypazarı | C80: 60 | D80: 150 | E80: 10 | F80: 3 | G80: 1 | H80: =D80/C80 -> 2.5 | I80: =D80/E80 -> 15 | J80: =D80/F80 -> 50 | M80: =($M$5*H80) -> 37.5 | N80: =($N$5*I80) -> 15 | O80: =($O$5*J80) -> 50 | P80: =SUM(L80:O80) -> 102.5
B81: Çamlıdere | C81: 90 | D81: 200 | E81: 10 | F81: 3 | G81: 1 | H81: =D81/C81 -> 2.2222222 | I81: =D81/E81 -> 20 | J81: =D81/F81 -> 66.666667 | M81: =($M$5*H81) -> 33.333333 | N81: =($N$5*I81) -> 20 | O81: =($O$5*J81) -> 66.666667 | P81: =SUM(L81:O81) -> 120
B82: Çankaya | C82: 90 | D82: 200 | E82: 10 | F82: 3 | G82: 1 | H82: =D82/C82 -> 2.2222222 | I82: =D82/E82 -> 20 | J82: =D82/F82 -> 66.666667 | M82: =($M$5*H82) -> 33.333333 | N82: =($N$5*I82) -> 20 | O82: =($O$5*J82) -> 66.666667 | P82: =SUM(L82:O82) -> 120
B83: Çubuk | C83: 100 | D83: 200 | E83: 10 | F83: 3 | G83: 1 | H83: =D83/C83 -> 2 | I83: =D83/E83 -> 20 | J83: =D83/F83 -> 66.666667 | M83: =($M$5*H83) -> 30 | N83: =($N$5*I83) -> 20 | O83: =($O$5*J83) -> 66.666667 | P83: =SUM(L83:O83) -> 116.66667
B84: Elmadağ | C84: 100 | D84: 200 | E84: 10 | F84: 3 | G84: 1 | H84: =D84/C84 -> 2 | I84: =D84/E84 -> 20 | J84: =D84/F84 -> 66.666667 | M84: =($M$5*H84) -> 30 | N84: =($N$5*I84) -> 20 | O84: =($O$5*J84) -> 66.666667 | P84: =SUM(L84:O84) -> 116.66667
B85: Etimesgut | C85: 90 | D85: 200 | E85: 10 | F85: 3 | G85: 1 | H85: =D85/C85 -> 2.2222222 | I85: =D85/E85 -> 20 | J85: =D85/F85 -> 66.666667 | M85: =($M$5*H85) -> 33.333333 | N85: =($N$5*I85) -> 20 | O85: =($O$5*J85) -> 66.666667 | P85: =SUM(L85:O85) -> 120
B86: Evren | C86: 75 | D86: 165 | E86: 10 | F86: 3 | G86: 1 | H86: =D86/C86 -> 2.2 | I86: =D86/E86 -> 16.5 | J86: =D86/F86 -> 55 | M86: =($M$5*H86) -> 33 | N86: =($N$5*I86) -> 16.5 | O86: =($O$5*J86) -> 55 | P86: =SUM(L86:O86) -> 104.5
B87: Gölbaşı | C87: 100 | D87: 200 | E87: 10 | F87: 3 | G87: 1 | H87: =D87/C87 -> 2 | I87: =D87/E87 -> 20 | J87: =D87/F87 -> 66.666667 | M87: =($M$5*H87) -> 30 | N87: =($N$5*I87) -> 20 | O87: =($O$5*J87) -> 66.666667 | P87: =SUM(L87:O87) -> 116.66667
... B100: Yenimahalle | C100: 80 | D100: 200 | E100: 10 | F100: 3 | G100: 1 | H100: =D100/C100 -> 2.5 | I100: =D100/E100 -> 20 | J100: =D100/F100 -> 66.666667 | M100: =($M$5*H100) -> 37.5 | N100: =($N$5*I100) -> 20 | O100: =($O$5*J100) -> 66.666667 | P100: =SUM(L100:O100) -> 124.16667
A101: Antalya
B102: Akseki | C102: 70 | D102: 160 | E102: 10 | F102: 3 | G102: 1 | H102: =D102/C102 -> 2.2857143 | I102: =D102/E102 -> 16 | J102: =D102/F102 -> 53.333333 | L102: 15 | M102: =($M$5*H102) -> 34.285714 | N102: =($N$5*I102) -> 16 | O102: =($O$5*J102) -> 53.333333 | P102: =SUM(L102:O102) -> 118.61905
B103: Aksu | C103: 60 | D103: 130 | E103: 10 | F103: 3 | G103: 1 | H103: =D103/C103 -> 2.1666667 | I103: =D103/E103 -> 13 | J103: =D103/F103 -> 43.333333 | M103: =($M$5*H103) -> 32.5 | N103: =($N$5*I103) -> 13 | O103: =($O$5*J103) -> 43.333333 | P103: =SUM(L103:O103) -> 88.833333
B104: Alanya | C104: 100 | D104: 190 | E104: 10 | F104: 3 | G104: 1 | H104: =D104/C104 -> 1.9 | I104: =D104/E104 -> 19 | J104: =D104/F104 -> 63.333333 | M104: =($M$5*H104) -> 28.5 | N104: =($N$5*I104) -> 19 | O104: =($O$5*J104) -> 63.333333 | P104: =SUM(L104:O104) -> 110.83333
B105: Demre | C105: 70 | D105: 200 | E105: 10 | F105: 3 | G105: 1 | H105: =D105/C105 -> 2.8571429 | I105: =D105/E105 -> 20 | J105: =D105/F105 -> 66.666667 | M105: =($M$5*H105) -> 42.857143 | N105: =($N$5*I105) -> 20 | O105: =($O$5*J105) -> 66.666667 | P105: =SUM(L105:O105) -> 129.52381
B106: Döşemealtı | C106: 65 | D106: 120 | E106: 10 | F106: 3 | G106: 1 | H106: =D106/C106 -> 1.8461538 | I106: =D106/E106 -> 12 | J106: =D106/F106 -> 40 | M106: =($M$5*H106) -> 27.692308 | N106: =($N$5*I106) -> 12 | O106: =($O$5*J106) -> 40 | P106: =SUM(L106:O106) -> 79.692308
B107: Elmalı | C107: 75 | D107: 145 | E107: 10 | F107: 3 | G107: 1 | H107: =D107/C107 -> 1.9333333 | I107: =D107/E107 -> 14.5 | J107: =D107/F107 -> 48.333333 | M107: =($M$5*H107) -> 29 | N107: =($N$5*I107) -> 14.5 | O107: =($O$5*J107) -> 48.333333 | P107: =SUM(L107:O107) -> 91.833333
B108: Finike | C108: 70 | D108: 165 | E108: 10 | F108: 3 | G108: 1 | H108: =D108/C108 -> 2.3571429 | I108: =D108/E108 -> 16.5 | J108: =D108/F108 -> 55 | M108: =($M$5*H108) -> 35.357143 | N108: =($N$5*I108) -> 16.5 | O108: =($O$5*J108) -> 55 | P108: =SUM(L108:O108) -> 106.85714
B109: Gazipaşa | C109: 70 | D109: 145 | E109: 10 | F109: 3 | G109: 1 | H109: =D109/C109 -> 2.0714286 | I109: =D109/E109 -> 14.5 | J109: =D109/F109 -> 48.333333 | M109: =($M$5*H109) -> 31.071429 | N109: =($N$5*I109) -> 14.5 | O109: =($O$5*J109) -> 48.333333 | P109: =SUM(L109:O109) -> 93.904762
B110: Gündoğmuş | C110: 80 | D110: 165 | E110: 10 | F110: 3 | G110: 1 | H110: =D110/C110 -> 2.0625 | I110: =D110/E110 -> 16.5 | J110: =D110/F110 -> 55 | M110: =($M$5*H110) -> 30.9375 | N110: =($N$5*I110) -> 16.5 | O110: =($O$5*J110) -> 55 | P110: =SUM(L110:O110) -> 102.4375
B111: İbradı | C111: 90 | D111: 155 | E111: 10 | F111: 3 | G111: 1 | H111: =D111/C111 -> 1.7222222 | I111: =D111/E111 -> 15.5 | J111: =D111/F111 -> 51.666667 | M111: =($M$5*H111) -> 25.833333 | N111: =($N$5*I111) -> 15.5 | O111: =($O$5*J111) -> 51.666667 | P111: =SUM(L111:O111) -> 93
B112: Kaş | C112: 70 | D112: 165 | E112: 10 | F112: 3 | G112: 1 | H112: =D112/C112 -> 2.3571429 | I112: =D112/E112 -> 16.5 | J112: =D112/F112 -> 55 | M112: =($M$5*H112) -> 35.357143 | N112: =($N$5*I112) -> 16.5 | O112: =($O$5*J112) -> 55 | P112: =SUM(L112:O112) -> 106.85714
B113: Kemer | C113: 70 | D113: 130 | E113: 10 | F113: 3 | G113: 1 | H113: =D113/C113 -> 1.8571429 | I113: =D113/E113 -> 13 | J113: =D113/F113 -> 43.333333 | M113: =($M$5*H113) -> 27.857143 | N113: =($N$5*I113) -> 13 | O113: =($O$5*J113) -> 43.333333 | P113: =SUM(L113:O113) -> 84.190476
B114: Kepez | C114: 65 | D114: 140 | E114: 10 | F114: 3 | G114: 1 | H114: =D114/C114 -> 2.1538462 | I114: =D114/E114 -> 14 | J114: =D114/F114 -> 46.666667 | M114: =($M$5*H114) -> 32.307692 | N114: =($N$5*I114) -> 14 | O114: =($O$5*J114) -> 46.666667 | P114: =SUM(L114:O114) -> 92.974359
... B120: Serik | C120: 60 | D120: 130 | E120: 10 | F120: 3 | G120: 1 | H120: =D120/C120 -> 2.1666667 | I120: =D120/E120 -> 13 | J120: =D120/F120 -> 43.333333 | M120: =($M$5*H120) -> 32.5 | N120: =($N$5*I120) -> 13 | O120: =($O$5*J120) -> 43.333333 | P120: =SUM(L120:O120) -> 88.833333
A121: Ardahan
B122: Çıldır | C122: 85 | D122: 175 | E122: 10 | F122: 3 | G122: 1 | H122: =D122/C122 -> 2.0588235 | I122: =D122/E122 -> 17.5 | J122: =D122/F122 -> 58.333333 | M122: =($M$5*H122) -> 30.882353 | N122: =($N$5*I122) -> 17.5 | O122: =($O$5*J122) -> 58.333333 | P122: =SUM(L122:O122) -> 106.71569
B123: Damal | C123: 100 | D123: 200 | E123: 10 | F123: 3 | G123: 1 | H123: =D123/C123 -> 2 | I123: =D123/E123 -> 20 | J123: =D123/F123 -> 66.666667 | M123: =($M$5*H123) -> 30 | N123: =($N$5*I123) -> 20 | O123: =($O$5*J123) -> 66.666667 | P123: =SUM(L123:O123) -> 116.66667
...

Sheet Sayfa2

Sheet Sayfa3
A1: ='yeter gelir büyüklük'!M5 -> 15 | B1: ='yeter gelir büyüklük'!N5 -> 1 | C1: ='yeter gelir büyüklük'!O5 -> 1
A2: ='yeter gelir büyüklük'!M5 -> 15 | B2: ='yeter gelir büyüklük'!N6 -> 15 | C2: ='yeter gelir büyüklük'!O6 -> 50
A3: ='yeter gelir büyüklük'!M5 -> 15 | B3: ='yeter gelir büyüklük'!N7 -> 16 | C3: ='yeter gelir büyüklük'!O7 -> 53.333333
A4: ='yeter gelir büyüklük'!M5 -> 15 | B4: ='yeter gelir büyüklük'!N8 -> 15 | C4: ='yeter gelir büyüklük'!O8 -> 50
A5: ='yeter gelir büyüklük'!M5 -> 15 | B5: ='yeter gelir büyüklük'!N9 -> 17.5 | C5: ='yeter gelir büyüklük'!O9 -> 58.333333
A6: ='yeter gelir büyüklük'!M10 -> 32.727273 | B6: ='yeter gelir büyüklük'!N10 -> 12 | C6: ='yeter gelir büyüklük'!O10 -> 40
A7: ='yeter gelir büyüklük'!M11 -> 34.285714 | B7: ='yeter gelir büyüklük'!N11 -> 16 | C7: ='yeter gelir büyüklük'!O11 -> 53.333333
A8: ='yeter gelir büyüklük'!M12 -> 40.384615 | B8: ='yeter gelir büyüklük'!N12 -> 17.5 | C8: ='yeter gelir büyüklük'!O12 -> 58.333333
A9: ='yeter gelir büyüklük'!M13 -> 37.5 | B9: ='yeter gelir büyüklük'!N13 -> 12.5 | C9: ='yeter gelir büyüklük'!O13 -> 41.666667
A10: ='yeter gelir büyüklük'!M14 -> 26.666667 | B10: ='yeter gelir büyüklük'!N14 -> 16 | C10: ='yeter gelir büyüklük'!O14 -> 53.333333
A11: ='yeter gelir büyüklük'!M15 -> 20 | B11: ='yeter gelir büyüklük'!N15 -> 12 | C11: ='yeter gelir büyüklük'!O15 -> 40
A12: ='yeter gelir büyüklük'!M16 -> 25.714286 | B12: ='yeter gelir büyüklük'!N16 -> 12 | C12: ='yeter gelir büyüklük'!O16 -> 40
A13: ='yeter gelir büyüklük'!M17 -> 36 | B13: ='yeter gelir büyüklük'!N17 -> 12 | C13: ='yeter gelir büyüklük'!O17 -> 40
A14: ='yeter gelir büyüklük'!M18 -> 27.631579 | B14: ='yeter gelir büyüklük'!N18 -> 17.5 | C14: ='yeter gelir büyüklük'!O18 -> 58.333333
A15: ='yeter gelir büyüklük'!M19 -> 40.5 | B15: ='yeter gelir büyüklük'!N19 -> 13.5 | C15: ='yeter gelir büyüklük'!O19 -> 45
A16: ='yeter gelir büyüklük'!M20 -> 48 | B16: ='yeter gelir büyüklük'!N20 -> 16 | C16: ='yeter gelir büyüklük'!O20 -> 53.333333
A17: ='yeter gelir büyüklük'!M21 -> 0 | B17: ='yeter gelir büyüklük'!N21 -> 0 | C17: ='yeter gelir büyüklük'!O21 -> 0
... A311: ='yeter gelir büyüklük'!M315 -> 40.5 | B311: ='yeter gelir büyüklük'!N315 -> 13.5 | C311: ='yeter gelir büyüklük'!O315 -> 45
