Workbook

Sheet yeter gelir büyüklük
A1: TÜRKİYE İL / İLÇE BAZINDA YETER GELİRLİ TARIMSAL ARAZİ BÜYÜKLÜKLERİ
A3: İl_İlçe | C3: Sulu Arazi (Da) | D3: Kuru Arazi (Da) | E3: Dikili Arazi (Da) | F3: Örtüaltı Arazi (Da) | G3: Kuru Araziye Çevirme Katsayısı | L3: Kuru Arazinin Eş Değer Miktarları | P3: TOPLAM | Q3: SONUÇ
G4: Kuru Arazi (Da) | H4: Sulu Arazi (Da) | I4: Dikili Arazi (Da) | J4: Örtüaltı Arazi (Da) | L4: Kuru Arazi (Da) | M4: Sulu Arazi (Da) | N4: Dikili Arazi (Da) | O4: Örtüaltı Arazi (Da)
A5: Adana | K5: ÖRNEK1 | L5: 15 | M5: 15 | N5: 1 | O5: 1 | P5: =SUM(L5:O5) -> 32
B6: Aladağ | C6: 70 | D6: 150 | E6: 10 | F6: 3 | G6: 1 | H6: =D6/C6 -> 2.1428571 | I6: =D6/E6 -> 15 | J6: =D6/F6 -> 50 | L6: 25 | M6: =M5*H6 -> 32.142857 | N6: =N5*I6 -> 15 | O6: =O5*J6 -> 50 | P6: =SUM(L6:O6) -> 122.14286 | Q6: BÖLÜNEREK SATILAMAZ
B7: Ceyhan | C7: 50 | D7: 160 | E7: 10 | F7: 3 | G7: 1 | H7: =D7/C7 -> 3.2 | I7: =D7/E7 -> 16 | J7: =D7/F7 -> 53.333333 | M7: =(M5*H7) -> 48 | N7: =N5*I7 -> 16 | O7: =O5*J7 -> 53.333333 | P7: =SUM(L7:O7) -> 117.33333 | Q7: 49 Da Kuru Karşılığı Arazi Satılabilir.
B8: Çukurova | C8: 65 | D8: 150 | E8: 10 | F8: 3 | G8: 1 | H8: =D8/C8 -> 2.3076923 | I8: =D8/E8 -> 15 | J8: =D8/F8 -> 50 | M8: =($M$5*H8) -> 34.615385 | N8: =($N$5*I8) -> 15 | O8: =($O$5*J8) -> 50 | P8: =SUM(L8:O8) -> 99.615385
B9: Feke | C9: 80 | D9: 175 | E9: 10 | F9: 3 | G9: 1 | H9: =D9/C9 -> 2.1875 | I9: =D9/E9 -> 17.5 | J9: =D9/F9 -> 58.333333 | M9: =($M$5*H9) -> 32.8125 | N9: =($N$5*I9) -> 17.5 | O9: =($O$5*J9) -> 58.333333 | P9: =SUM(L9:O9) -> 108.64583
B10: İmamoğlu | C10: 55 | D10: 120 | E10: 10 | F10: 3 | G10: 1 | H10: =D10/C10 -> 2.1818182 | I10: =D10/E10 -> 12 | J10: =D10/F10 -> 40 | M10: =($M$5*H10) -> 32.727273 | N10: =($N$5*I10) -> 12 | O10: =($O$5*J10) -> 40 | P10: =SUM(L10:O10) -> 84.727273
B11: Karaisalı | C11: 70 | D11: 160 | E11: 10 | F11: 3 | G11: 1 | H11: =D11/C11 -> 2.2857143 | I11: =D11/E11 -> 16 | J11: =D11/F11 -> 53.333333 | M11: =($M$5*H11) -> 34.285714 | N11: =($N$5*I11) -> 16 | O11: =($O$5*J11) -> 53.333333 | P11: =SUM(L11:O11) -> 103.61905
B12: Karataş | C12: 65 | D12: 175 | E12: 10 | F12: 3 | G12: 1 | H12: =D12/C12 -> 2.6923077 | I12: =D12/E12 -> 17.5 | J12: =D12/F12 -> 58.333333 | M12: =($M$5*H12) -> 40.384615 | N12: =($N$5*I12) -> 17.5 | O12: =($O$5*J12) -> 58.333333 | P12: =SUM(L12:O12) -> 116.21795
B13: Kozan | C13: 50 | D13: 125 | E13: 10 | F13: 3 | G13: 1 | H13: =D13/C13 -> 2.5 | I13: =D13/E13 -> 12.5 | J13: =D13/F13 -> 41.666667 | M13: =($M$5*H13) -> 37.5 | N13: =($N$5*I13) -> 12.5 | O13: =($O$5*J13) -> 41.666667 | P13: =SUM(L13:O13) -> 91.666667
B14: Pozantı | C14: 90 | D14: 160 | E14: 10 | F14: 3 | G14: 1 | H14: =D14/C14 -> 1.7777778 | I14: =D14/E14 -> 16 | J14: =D14/F14 -> 53.333333 | M14: =($M$5*H14) -> 26.666667 | N14: =($N$5*I14) -> 16 | O14: =($O$5*J14) -> 53.333333 | P14: =SUM(L14:O14) -> 96
B15: Saimbeyli | C15: 90 | D15: 120 | E15: 10 | F15: 3 | G15: 1 | H15: =D15/C15 -> 1.3333333 | I15: =D15/E15 -> 12 | J15: =D15/F15 -> 40 | M15: =($M$5*H15) -> 20 | N15: =($N$5*I15) -> 12 | O15: =($O$5*J15) -> 40 | P15: =SUM(L15:O15) -> 72
B16: Sarıçam | C16: 70 | D16: 120 | E16: 10 | F16: 3 | G16: 1 | H16: =D16/C16 -> 1.7142857 | I16: =D16/E16 -> 12 | J16: =D16/F16 -> 40 | M16: =($M$5*H16) -> 25.714286 | N16: =($N$5*I16) -> 12 | O16: =($O$5*J16) -> 40 | P16: =SUM(L16:O16) -> 77.714286
B17: Seyhan | C17: 50 | D17: 120 | E17: 10 | F17: 3 | G17: 1 | H17: =D17/C17 -> 2.4 | I17: =D17/E17 -> 12 | J17: =D17/F17 -> 40 | M17: =($M$5*H17) -> 36 | N17: =($N$5*I17) -> 12 | O17: =($O$5*J17) -> 40 | P17: =SUM(L17:O17) -> 88
B18: Tufanbeyli | C18: 95 | D18: 175 | E18: 10 | F18: 3 | G18: 1 | H18: =D18/C18 -> 1.8421053 | I18: =D18/E18 -> 17.5 | J18: =D18/F18 -> 58.333333 | M18: =($M$5*H18) -> 27.631579 | N18: =($N$5*I18) -> 17.5 | O18: =($O$5*J18) -> 58.333333 | P18: =SUM(L18:O18) -> 103.46491
B19: Yumurtalık | C19: 50 | D19: 135 | E19: 10 | F19: 3 | G19: 1 | H19: =D19/C19 -> 2.7 | I19: =D19/E19 -> 13.5 | J19: =D19/F19 -> 45 | M19: =($M$5*H19) -> 40.5 | N19: =($N$5*I19) -> 13.5 | O19: =($O$5*J19) -> 45 | P19: =SUM(L19:O19) -> 99
B20: Yüreğir | C20: 50 | D20: 160 | E20: 10 | F20: 3 | G20: 1 | H20: =D20/C20 -> 3.2 | I20: =D20/E20 -> 16 | J20: =D20/F20 -> 53.333333 | M20: =($M$5*H20) -> 48 | N20: =($N$5*I20) -> 16 | O20: =($O$5*J20) -> 53.333333 | P20: =SUM(L20:O20) -> 117.33333
A21: Adıyaman
B22: Besni | C22: 65 | D22: 160 | E22: 10 | F22: 3 | G22: 1 | H22: =D22/C22 -> 2.4615385 | I22: =D22/E22 -> 16 | J22: =D22/F22 -> 53.333333 | M22: =($M$5*H22) -> 36.923077 | N22: =($N$5*I22) -> 16 | O22: =($O$5*J22) -> 53.333333 | P22: =SUM(L22:O22) -> 106.25641
B23: Çelikhan | C23: 55 | D23: 140 | E23: 10 | F23: 3 | G23: 1 | H23: =D23/C23 -> 2.5454545 | I23: =D23/E23 -> 14 | J23: =D23/F23 -> 46.666667 | M23: =($M$5*H23) -> 38.181818 | N23: =($N$5*I23) -> 14 | O23: =($O$5*J23) -> 46.666667 | P23: =SUM(L23:O23) -> 98.848485
B24: Gerger | C24: 70 | D24: 170 | E24: 10 | F24: 3 | G24: 1 | H24: =D24/C24 -> 2.4285714 | I24: =D24/E24 -> 17 | J24: =D24/F24 -> 56.666667 | M24: =($M$5*H24) -> 36.428571 | N24: =($N$5*I24) -> 17 | O24: =($O$5*J24) -> 56.666667 | P24: =SUM(L24:O24) -> 110.09524
B25: Gölbaşı | C25: 65 | D25: 165 | E25: 10 | F25: 3 | G25: 1 | H25: =D25/C25 -> 2.5384615 | I25: =D25/E25 -> 16.5 | J25: =D25/F25 -> 55 | M25: =($M$5*H25) -> 38.076923 | N25: =($N$5*I25) -> 16.5 | O25: =($O$5*J25) -> 55 | P25: =SUM(L25:O25) -> 109.57692
B26: Kahta | C26: 70 | D26: 160 | E26: 10 | F26: 3 | G26: 1 | H26: =D26/C26 -> 2.2857143 | I26: =D26/E26 -> 16 | J26: =D26/F26 -> 53.333333 | M26: =($M$5*H26) -> 34.285714 | N26: =($N$5*I26) -> 16 | O26: =($O$5*J26) -> 53.333333 | P26: =SUM(L26:O26) -> 103.61905
B27: Merkez | C27: 65 | D27: 160 | E27: 10 | F27: 3 | G27: 1 | H27: =D27/C27 -> 2.4615385 | I27: =D27/E27 -> 16 | J27: =D27/F27 -> 53.333333 | M27: =($M$5*H27) -> 36.923077 | N27: =($N$5*I27) -> 16 | O27: =($O$5*J27) -> 53.333333 | P27: =SUM(L27:O27) -> 106.25641
B28: Samsat | C28: 70 | D28: 160 | E28: 10 | F28: 3 | G28: 1 | H28: =D28/C28 -> 2.2857143 | I28: =D28/E28 -> 16 | J28: =D28/F28 -> 53.333333 | M28: =($M$5*H28) -> 34.285714 | N28: =($N$5*I28) -> 16 | O28: =($O$5*J28) -> 53.333333 | P28: =SUM(L28:O28) -> 103.61905
B29: Sincik | C29: 55 | D29: 140 | E29: 10 | F29: 3 | G29: 1 | H29: =D29/C29 -> 2.5454545 | I29: =D29/E29 -> 14 | J29: =D29/F29 -> 46.666667 | M29: =($M$5*H29) -> 38.181818 | N29: =($N$5*I29) -> 14 | O29: =($O$5*J29) -> 46.666667 | P29: =SUM(L29:O29) -> 98.848485
B30: Tut | C30: 65 | D30: 150 | E30: 10 | F30: 3 | G30: 1 | H30: =D30/C30 -> 2.3076923 | I30: =D30/E30 -> 15 | J30: =D30/F30 -> 50 | M30: =($M$5*H30) -> 34.615385 | N30: =($N$5*I30) -> 15 | O30: =($O$5*J30) -> 50 | P30: =SUM(L30:O30) -> 99.615385
A31: Afyonkarahisar
B32: Başmakçı | C32: 70 | D32: 200 | E32: 10 | F32: 3 | G32: 1 | H32: =D32/C32 -> 2.8571429 | I32: =D32/E32 -> 20 | J32: =D32/F32 -> 66.666667 | M32: =($M$5*H32) -> 42.857143 | N32: =($N$5*I32) -> 20 | O32: =($O$5*J32) -> 66.666667 | P32: =SUM(L32:O32) -> 129.52381
B33: Bayat | C33: 75 | D33: 175 | E33: 10 | F33: 3 | G33: 1 | H33: =D33/C33 -> 2.3333333 | I33: =D33/E33 -> 17.5 | J33: =D33/F33 -> 58.333333 | M33: =($M$5*H33) -> 35 | N33: =($N$5*I33) -> 17.5 | O33: =($O$5*J33) -> 58.333333 | P33: =SUM(L33:O33) -> 110.83333
B34: Bolvadin | C34: 65 | D34: 200 | E34: 10 | F34: 3 | G34: 1 | H34: =D34/C34 -> 3.0769231 | I34: =D34/E34 -> 20 | J34: =D34/F34 -> 66.666667 | M34: =($M$5*H34) -> 46.153846 | N34: =($N$5*I34) -> 20 | O34: =($O$5*J34) -> 66.666667 | P34: =SUM(L34:O34) -> 132.82051
B35: Çay | C35: 80 | D35: 180 | E35: 10 | F35: 3 | G35: 1 | H35: =D35/C35 -> 2.25 | I35: =D35/E35 -> 18 | J35: =D35/F35 -> 60 | M35: =($M$5*H35) -> 33.75 | N35: =($N$5*I35) -> 18 | O35: =($O$5*J35) -> 60 | P35: =SUM(L35:O35) -> 111.75
B36: Çobanlar | C36: 85 | D36: 200 | E36: 10 | F36: 3 | G36: 1 | H36: =D36/C36 -> 2.3529412 | I36: =D36/E36 -> 20 | J36: =D36/F36 -> 66.666667 | M36: =($M$5*H36) -> 35.294118 | N36: =($N$5*I36) -> 20 | O36: =($O$5*J36) -> 66.666667 | P36: =SUM(L36:O36) -> 121.96078
B37: Dazkırı | C37: 75 | D37: 200 | E37: 10 | F37: 3 | G37: 1 | H37: =D37/C37 -> 2.6666667 | I37: =D37/E37 -> 20 | J37: =D37/F37 -> 66.666667 | M37: =($M$5*H37) -> 40 | N37: =($N$5*I37) -> 20 | O37: =($O$5*J37) -> 66.666667 | P37: =SUM(L37:O37) -> 126.66667
B38: Dinar | C38: 60 | D38: 200 | E38: 10 | F38: 3 | G38: 1 | H38: =D38/C38 -> 3.3333333 | I38: =D38/E38 -> 20 | J38: =D38/F38 -> 66.666667 | M38: =($M$5*H38) -> 50 | N38: =($N$5*I38) -> 20 | O38: =($O$5*J38) -> 66.666667 | P38: =SUM(L38:O38) -> 136.66667
B39: Emirdağ | C39: 65 | D39: 190 | E39: 10 | F39: 3 | G39: 1 | H39: =D39/C39 -> 2.9230769 | I39: =D39/E39 -> 19 | J39: =D39/F39 -> 63.333333 | M39: =($M$5*H39) -> 43.846154 | N39: =($N$5*I39) -> 19 | O39: =($O$5*J39) -> 63.333333 | P39: =SUM(L39:O39) -> 126.17949
B40: Evciler | C40: 65 | D40: 180 | E40: 10 | F40: 3 | G40: 1 | H40: =D40/C40 -> 2.7692308 | I40: =D40/E40 -> 18 | J40: =D40/F40 -> 60 | M40: =($M$5*H40) -> 41.538462 | N40: =($N$5*I40) -> 18 | O40: =($O$5*J40) -> 60 | P40: =SUM(L40:O40) -> 119.53846
B41: Hocalar | C41: 65 | D41: 190 | E41: 10 | F41: 3 | G41: 1 | H41: =D41/C41 -> 2.9230769 | I41: =D41/E41 -> 19 | J41: =D41/F41 -> 63.333333 | M41: =($M$5*H41) -> 43.846154 | N41: =($N$5*I41) -> 19 | O41: =($O$5*J41) -> 63.333333 | P41: =SUM(L41:O41) -> 126.17949
...

Sheet Sayfa2

Sheet Sayfa3
A1: ='yeter gelir büyüklük'!M5 -> 15 | B1: ='yeter gelir büyüklük'!N5 -> 1 | C1: ='yeter gelir büyüklük'!O5 -> 1
A2: ='yeter gelir büyüklük'!M5 -> 15 | B2: ='yeter gelir büyüklük'!N6 -> 15 | C2: ='yeter gelir büyüklük'!O6 -> 50
A3: ='yeter gelir büyüklük'!M5 -> 15 | B3: ='yeter gelir büyüklük'!N7 -> 16 | C3: ='yeter gelir büyüklük'!O7 -> 53.333333
A4: ='yeter gelir büyüklük'!M5 -> 15 | B4: ='yeter gelir büyüklük'!N8 -> 15 | C4: ='yeter gelir büyüklük'!O8 -> 50
A5: ='yeter gelir büyüklük'!M5 -> 15 | B5: ='yeter gelir büyüklük'!N9 -> 17.5 | C5: ='yeter gelir büyüklük'!O9 -> 58.333333
A6: ='yeter gelir büyüklük'!M10 -> 32.727273 | B6: ='yeter gelir büyüklük'!N10 -> 12 | C6: ='yeter gelir büyüklük'!O10 -> 40
A7: ='yeter gelir büyüklük'!M11 -> 34.285714 | B7: ='yeter gelir büyüklük'!N11 -> 16 | C7: ='yeter gelir büyüklük'!O11 -> 53.333333
A8: ='yeter gelir büyüklük'!M12 -> 40.384615 | B8: ='yeter gelir büyüklük'!N12 -> 17.5 | C8: ='yeter gelir büyüklük'!O12 -> 58.333333
A9: ='yeter gelir büyüklük'!M13 -> 37.5 | B9: ='yeter gelir büyüklük'!N13 -> 12.5 | C9: ='yeter gelir büyüklük'!O13 -> 41.666667
A10: ='yeter gelir büyüklük'!M14 -> 26.666667 | B10: ='yeter gelir büyüklük'!N14 -> 16 | C10: ='yeter gelir büyüklük'!O14 -> 53.333333
A11: ='yeter gelir büyüklük'!M15 -> 20 | B11: ='yeter gelir büyüklük'!N15 -> 12 | C11: ='yeter gelir büyüklük'!O15 -> 40
A12: ='yeter gelir büyüklük'!M16 -> 25.714286 | B12: ='yeter gelir büyüklük'!N16 -> 12 | C12: ='yeter gelir büyüklük'!O16 -> 40
A13: ='yeter gelir büyüklük'!M17 -> 36 | B13: ='yeter gelir büyüklük'!N17 -> 12 | C13: ='yeter gelir büyüklük'!O17 -> 40
A14: ='yeter gelir büyüklük'!M18 -> 27.631579 | B14: ='yeter gelir büyüklük'!N18 -> 17.5 | C14: ='yeter gelir büyüklük'!O18 -> 58.333333
A15: ='yeter gelir büyüklük'!M19 -> 40.5 | B15: ='yeter gelir büyüklük'!N19 -> 13.5 | C15: ='yeter gelir büyüklük'!O19 -> 45
A16: ='yeter gelir büyüklük'!M20 -> 48 | B16: ='yeter gelir büyüklük'!N20 -> 16 | C16: ='yeter gelir büyüklük'!O20 -> 53.333333
A17: ='yeter gelir büyüklük'!M21 -> 0 | B17: ='yeter gelir büyüklük'!N21 -> 0 | C17: ='yeter gelir büyüklük'!O21 -> 0
... A311: ='yeter gelir büyüklük'!M315 -> 40.5 | B311: ='yeter gelir büyüklük'!N315 -> 13.5 | C311: ='yeter gelir büyüklük'!O315 -> 45
